BEGIN:VCALENDAR
METHOD:PUBLISH
PRODID:-//Weblication CMS
VERSION:2.0
BEGIN:VEVENT
SUMMARY:Ausbildung zum Sicherheitsbeauftragten Konform nach § 20 DGUV Vorschrift 1 „Grundsätze der Prävention“  und § 22 Sozialgesetzbuch VII / EKAS-6508
DTSTART:20260622T080000
DTEND:20260624T163000
DESCRIPTION:Sicherheitsbeauftragten-Ausbildungen Teil 01 bis 02,03,04,05,06 Vorbereitung / Fachkraft für Arbeitssicherheit Theorie und Praxis. 3 Wochen vorher Anmelden bevor die Seminareplätze Belegt sind!
LOCATION:Raum Dreiländereck
UID:https://www.ibc-frensel.com/ibc/veranstaltungen/termine/neuer-Termin-1.php
URL:https://www.ibc-frensel.com/ibc/veranstaltungen/termine/neuer-Termin-1.php
END:VEVENT
END:VCALENDAR